BEGIN:VCALENDAR
VERSION:2.0
PRODID:-//Nosey Palate - ECPv6.1.3//NONSGML v1.0//EN
CALSCALE:GREGORIAN
METHOD:PUBLISH
X-WR-CALNAME:Nosey Palate
X-ORIGINAL-URL:https://www.noseypalate.com
X-WR-CALDESC:Events for Nosey Palate
REFRESH-INTERVAL;VALUE=DURATION:PT1H
X-Robots-Tag:noindex
X-PUBLISHED-TTL:PT1H
BEGIN:VTIMEZONE
TZID:America/New_York
BEGIN:DAYLIGHT
TZOFFSETFROM:-0500
TZOFFSETTO:-0400
TZNAME:EDT
DTSTART:20220313T070000
END:DAYLIGHT
BEGIN:STANDARD
TZOFFSETFROM:-0400
TZOFFSETTO:-0500
TZNAME:EST
DTSTART:20221106T060000
END:STANDARD
BEGIN:DAYLIGHT
TZOFFSETFROM:-0500
TZOFFSETTO:-0400
TZNAME:EDT
DTSTART:20230312T070000
END:DAYLIGHT
BEGIN:STANDARD
TZOFFSETFROM:-0400
TZOFFSETTO:-0500
TZNAME:EST
DTSTART:20231105T060000
END:STANDARD
END:VTIMEZONE
BEGIN:VEVENT
DTSTART;TZID=America/New_York:20230214T190000
DTEND;TZID=America/New_York:20230214T203000
DTSTAMP:20260424T123207
CREATED:20210426T160028Z
LAST-MODIFIED:20230102T225005Z
UID:3231-1676401200-1676406600@www.noseypalate.com
SUMMARY:Blindfold Wine & Dessert Pairing
DESCRIPTION:Blindfold Wine & Dessert Pairing \nIt is often noted that when one sense is inhibited\, the brain rewires and strengthens our remaining senses. Allow Nosey Palate to heighten your senses by temporarily eliminating your sight with a blindfold. The sensation of flavor is a combination of taste and smell and in this blindfolded experience\, we will guide you between a variety of wines and desserts to help you discover nuance flavors and create a lasting food and wine memory. \n The taste buds on our tongue detects up to five elements of taste. We have carefully orchestrated desserts and hand picked wines to help you explore sweet\, sour\, spicy\, bitter and savory aromas. This is a fun experience you can share with a partner. You will have an opportunity to guess before indulging and once you have tasted the final wine and dessert pairing\, you may then remove your blindfold and see how well your taste bud did! \nAMBIENCE\nCandlelit\, soft background music\, accent floral arrangement\, intimate. \nFood Allergies? Email us at events@noseypalate.com
URL:https://www.noseypalate.com/calendar/blindfold-wine-dessert-pairing-4/
LOCATION:Nosey Palate\, 1516 N 5th Street\, Philadelphia\, PA\, 19122\, United States
CATEGORIES:Wine Bingo
ATTACH;FMTTYPE=image/png:https://www.noseypalate.com/wp-content/uploads/2021/01/Screen-Shot-2021-01-30-at-1.55.12-PM.png
ORGANIZER;CN="Nosey%20Palate%20LLC":MAILTO:info@noseypalate.com
END:VEVENT
BEGIN:VEVENT
DTSTART;TZID=America/New_York:20220702T130000
DTEND;TZID=America/New_York:20220702T153000
DTSTAMP:20260424T123207
CREATED:20220407T012529Z
LAST-MODIFIED:20220531T213330Z
UID:3796-1656766800-1656775800@www.noseypalate.com
SUMMARY:Wine Bingo
DESCRIPTION:What is Wine Tasting Bingo?\nWine Bingo is similar to traditional Bingo except the numbers on the Bingo board are replaced with wine varietals and cocktails… that you’ll get a chance to indulge! \nHow to Play?\n\nEach Player will receive a 3-tiered flight stand that has a combination of 21 wines and cocktails.\nEach Player will receive a Bingo board. There are 5 columns categorized as: White\, Rosé\, Cocktail\, Dessert/Fortified\, and Red.\nThe Caller will direct the Players to sample the first wine/cocktail.\nThe Player will have to use their sense of sight\, smell\, taste or wine knowledge to determine which wine or cocktail he/she has tasted.\nThe Caller will continue directing Players to sample the remaining wine/cocktails until the last one is sampled!\n\nHow to Win?\n\nPlayers will use Bingo markers to mark the correct wines/cocktails on their boards.\nPlayers have to mark 5 squares (correctly) in a row and shout BINGO! to win.  Squares can be marked vertically\, horizontally or diagonally.\n\nWhat’s Included?\n– Wine Tasting Activity\n– 21 Wine & Cocktail Combination\n– Bingo Board\n– Bingo Marker\n– A Custom Booklet with the included Wine & Cocktail Descriptions\n– Light Refreshments \nFrequently Asked Questions (FAQ)\nWhat happens if more than one person shouts\, “BINGO!”?\nThe Players will spin a wheel. The Player that gets the highest number wins.\nCan I win twice?\nBecause we want everyone to have an equal chance of winning\, we are limiting prizes to one per person.\nWhat if I do not know the wine or cocktail?\nWe will provide a booklet with the wine and cocktail descriptions. If that doesn’t help then ask a friend 🙂\nHow many games will be played?\nWe would love to see everyone still functioning at the end of the game. Our compassion will only allow one game.
URL:https://www.noseypalate.com/calendar/wine-bingo/
LOCATION:Nosey Palate\, 1516 N 5th Street\, Philadelphia\, PA\, 19122\, United States
CATEGORIES:Wine Bingo
ATTACH;FMTTYPE=image/png:https://www.noseypalate.com/wp-content/uploads/2019/08/BINGO-logo.png
ORGANIZER;CN="Nosey%20Palate%20LLC":MAILTO:info@noseypalate.com
END:VEVENT
BEGIN:VEVENT
DTSTART;TZID=America/New_York:20220226T130000
DTEND;TZID=America/New_York:20220226T143000
DTSTAMP:20260424T123207
CREATED:20190914T230926Z
LAST-MODIFIED:20220407T015406Z
UID:1624-1645880400-1645885800@www.noseypalate.com
SUMMARY:Wine Bingo
DESCRIPTION:What is Wine Tasting Bingo?\nWine Bingo is similar to traditional Bingo except the numbers on the Bingo board are replaced with wine varietals and cocktails… that you’ll get a chance to indulge! \nHow to Play?\n\nEach Player will receive a 3-tiered flight stand that has a combination of 21 wines and cocktails.\nEach Player will receive a Bingo board. There are 5 columns categorized as: White\, Rosé\, Cocktail\, Dessert/Fortified\, and Red.\nThe Caller will direct the Players to sample the first wine/cocktail.\nThe Player will have to use their sense of sight\, smell\, taste or wine knowledge to determine which wine or cocktail he/she has tasted.\nThe Caller will continue directing Players to sample the remaining wine/cocktails until the last one is sampled!\n\nHow to Win?\n\nPlayers will use Bingo markers to mark the correct wines/cocktails on their boards.\nPlayers have to mark 5 squares (correctly) in a row and shout BINGO! to win.  Squares can be marked vertically\, horizontally or diagonally.\n\nWhat’s Included?\n– Wine Tasting Activity\n– 21 Wine & Cocktail Combination\n– Bingo Board\n– Bingo Marker\n– A Custom Booklet with the included Wine & Cocktail Descriptions\n– Light Refreshments \nFrequently Asked Questions (FAQ)\nWhat happens if more than one person shouts\, “BINGO!”?\nThe Players will spin a wheel. The Player that gets the highest number wins.\nCan I win twice?\nBecause we want everyone to have an equal chance of winning\, we are limiting prizes to one per person.\nWhat if I do not know the wine or cocktail?\nWe will provide a booklet with the wine and cocktail descriptions. If that doesn’t help then ask a friend 🙂\nHow many games will be played?\nWe would love to see everyone still functioning at the end of the game. Our compassion will only allow one game.
URL:https://www.noseypalate.com/calendar/bingo/
LOCATION:The Palate Room\, 1516 N 5th Street #213\, Philadelphia\, PA\, 19122\, United States
CATEGORIES:Wine Bingo
ATTACH;FMTTYPE=image/png:https://www.noseypalate.com/wp-content/uploads/2019/08/BINGO-logo.png
ORGANIZER;CN="Nosey%20Palate%20LLC":MAILTO:info@noseypalate.com
END:VEVENT
END:VCALENDAR