BEGIN:VCALENDAR
VERSION:2.0
PRODID:-//Nosey Palate - ECPv6.1.3//NONSGML v1.0//EN
CALSCALE:GREGORIAN
METHOD:PUBLISH
X-WR-CALNAME:Nosey Palate
X-ORIGINAL-URL:https://www.noseypalate.com
X-WR-CALDESC:Events for Nosey Palate
REFRESH-INTERVAL;VALUE=DURATION:PT1H
X-Robots-Tag:noindex
X-PUBLISHED-TTL:PT1H
BEGIN:VTIMEZONE
TZID:America/New_York
BEGIN:DAYLIGHT
TZOFFSETFROM:-0500
TZOFFSETTO:-0400
TZNAME:EDT
DTSTART:20190310T070000
END:DAYLIGHT
BEGIN:STANDARD
TZOFFSETFROM:-0400
TZOFFSETTO:-0500
TZNAME:EST
DTSTART:20191103T060000
END:STANDARD
BEGIN:DAYLIGHT
TZOFFSETFROM:-0500
TZOFFSETTO:-0400
TZNAME:EDT
DTSTART:20200308T070000
END:DAYLIGHT
BEGIN:STANDARD
TZOFFSETFROM:-0400
TZOFFSETTO:-0500
TZNAME:EST
DTSTART:20201101T060000
END:STANDARD
END:VTIMEZONE
BEGIN:VEVENT
DTSTART;TZID=America/New_York:20200321T180000
DTEND;TZID=America/New_York:20200321T193000
DTSTAMP:20260423T183936
CREATED:20200204T194804Z
LAST-MODIFIED:20200303T004338Z
UID:2520-1584813600-1584819000@www.noseypalate.com
SUMMARY:Blindfold Wine & Dessert Pairing
DESCRIPTION:Have you ever experienced wine tasting in the dark? What about pairing wine with fresh and tasty desserts? If not\, then this is the right experience for you!  \nHeighten Your Senses & Taste The Difference!! \nWe will begin with a warmup activity to help you adjust. At the table where you will be seated\, you will be directed to smell glasses that contains common notes found in wine. (ex: vanilla\, spices\, floral\, oak\, citrus\, etc) \nNext\, we will begin the best part… the Wine & Dessert Pairing.  \nYou will be guided between each wine and dessert tasting. We carefully paired a dessert with with each wine to help enhance the flavors! While exploring\, you and other guests will discuss what you experience\, guess the color\, region and aromas amongst each other! \nOnce we have tasted our final wine\, blindfolds will come off and you and your new friends can check to see how your senses did!! \nComplimentary Cocktails will be served before and during the event! \n7:00 – 7:30 – Social Mixer (Cocktails)\n7:30- 8:10 – Wine & Dessert Pairing\n8:10 – 8:30 – Wine Down
URL:https://www.noseypalate.com/calendar/blindfold-wine-dessert-pairing/
LOCATION:Nosey Palate\, 1516 N 5th Street\, Philadelphia\, PA\, 19122\, United States
ATTACH;FMTTYPE=image/jpeg:https://www.noseypalate.com/wp-content/uploads/2019/08/AW20363-scaled.jpg
ORGANIZER;CN="Nosey%20Palate%20LLC":MAILTO:info@noseypalate.com
END:VEVENT
BEGIN:VEVENT
DTSTART;TZID=America/New_York:20200223T120000
DTEND;TZID=America/New_York:20200223T143000
DTSTAMP:20260423T183936
CREATED:20191229T020114Z
LAST-MODIFIED:20200210T212231Z
UID:2386-1582459200-1582468200@www.noseypalate.com
SUMMARY:Waffles\, Mimosas & Board Games
DESCRIPTION: A Waffle Bar meets a Mimosas Bar \nA Sunday morning/afternoon event for those who don’t mind eating unlimited waffles\, drinking bottomless mimosas\, and playing their favorite board games. \nGAMES: Uno\, Monopoly\, Chess\, Scrapple\, Connect 4\, Checkers\, Battle Ship\, Jenga\, Operation\, Clue\, Sorry\, Yahtzee\, Trouble\, and more!!
URL:https://www.noseypalate.com/calendar/waffles-mimosas-board-games/
LOCATION:Nosey Palate\, 1516 N 5th Street\, Philadelphia\, PA\, 19122\, United States
ORGANIZER;CN="Nosey%20Palate%20LLC":MAILTO:info@noseypalate.com
END:VEVENT
BEGIN:VEVENT
DTSTART;TZID=America/New_York:20200118T180000
DTEND;TZID=America/New_York:20200118T193000
DTSTAMP:20260423T183936
CREATED:20191222T225121Z
LAST-MODIFIED:20191223T004711Z
UID:2316-1579370400-1579375800@www.noseypalate.com
SUMMARY:Wine & Pizza Pairing
DESCRIPTION:Wine & Pizza Pairing \nName a better combo other than Wine & Pizza? (we’ll wait…)\nDuring this event\, we will sample and pair popular wine varietals with a variety of delicious pizza! You will learn what wine pairs with what pizza. We will touch on the topics of sauces\, cheese\, toppings\, and more. \nSo… come hungry and be prepared to experience this wonderful combination!
URL:https://www.noseypalate.com/calendar/wine-pizza/
LOCATION:Nosey Palate\, 1516 N 5th Street\, Philadelphia\, PA\, 19122\, United States
ATTACH;FMTTYPE=image/png:https://www.noseypalate.com/wp-content/uploads/2019/12/Wine-Pizza-Pairing-New.png
ORGANIZER;CN="Nosey%20Palate%20LLC":MAILTO:info@noseypalate.com
END:VEVENT
BEGIN:VEVENT
DTSTART;TZID=America/New_York:20200111T180000
DTEND;TZID=America/New_York:20200111T193000
DTSTAMP:20260423T183936
CREATED:20191222T013452Z
LAST-MODIFIED:20200104T222916Z
UID:2311-1578765600-1578771000@www.noseypalate.com
SUMMARY:Blindfold Wine Tasting
DESCRIPTION:HEIGHTEN YOUR SENSES | TASTE THE DIFFERENCE \n\nAllow your senses (or lack thereof) to guide you through this exciting Blindfold Wine Tasting! \nHow does it work? \n\nBefore entering the room\, you will be given a blindfold and escorted to your seat.\nWe will begin an exercise (still blindfolded) where we smell “objects” such as herbs\, spices\, fruit\, to awaken the palate.\nGet a feel for the table.\nWe will then dive into the tasting!\nOpenly discuss with one another exactly what you are experiencing. Can you guess if the wine is red or white? What aromas do you smell?\nLastly\, you will have the option to take the blindfolds off and enjoy a complimentary cocktail.\n\nAssistance will be available in this dimly lit experience.\nBread and butter (vegan option) will be available to cleanse your palate in between wines.
URL:https://www.noseypalate.com/calendar/blindfold/
LOCATION:The Palate Room\, 1516 N 5th Street #213\, Philadelphia\, PA\, 19122\, United States
ATTACH;FMTTYPE=image/jpeg:https://www.noseypalate.com/wp-content/uploads/2019/08/AW20447-scaled.jpg
ORGANIZER;CN="Nosey%20Palate%20LLC":MAILTO:info@noseypalate.com
END:VEVENT
BEGIN:VEVENT
DTSTART;TZID=America/New_York:20200104T180000
DTEND;TZID=America/New_York:20200104T190000
DTSTAMP:20260423T183936
CREATED:20191228T012351Z
LAST-MODIFIED:20191229T012204Z
UID:2378-1578160800-1578164400@www.noseypalate.com
SUMMARY:The 5 S's of Wine Tasting
DESCRIPTION:Learn how The 5 S’s of Wine Tasting can enhance your wine tasting experience. \nYou will learn fundamentals of wine tasting! You will sample a variety of wines from different regions. Expect to See\, Swirl\, Sniff\, Sip\, and Savor the wines we present and openly discuss the body\, aromas\, flavors and more! \nWe will pair each wine with cheese to enhance the flavors. Bread and fruit will be provided. The first 15 minutes will be used to mingle\, take photos and gives you an opportunity grab a complimentary cocktail. We will then begin The 5 S’s of Wine Tasting!
URL:https://www.noseypalate.com/calendar/5s/
LOCATION:Nosey Palate\, 1516 N 5th Street\, Philadelphia\, PA\, 19122\, United States
ATTACH;FMTTYPE=image/png:https://www.noseypalate.com/wp-content/uploads/2019/11/The-5-Ss-of-Wine-Tasting-Eventbrite.png
ORGANIZER;CN="Nosey%20Palate%20LLC":MAILTO:info@noseypalate.com
END:VEVENT
BEGIN:VEVENT
DTSTART;TZID=America/New_York:20191227T180000
DTEND;TZID=America/New_York:20191227T210000
DTSTAMP:20260423T183936
CREATED:20191223T172928Z
LAST-MODIFIED:20191223T172928Z
UID:2337-1577469600-1577480400@www.noseypalate.com
SUMMARY:Pop Up Shop
DESCRIPTION:The Multi-Talented One End of the Year Pop Up Shop. \nPurchase artwork\, wine\, raffles and end your 2019 with down-to-earth people. \n 
URL:https://www.noseypalate.com/calendar/pop-up-shop/
LOCATION:Nosey Palate\, 1516 N 5th Street\, Philadelphia\, PA\, 19122\, United States
END:VEVENT
BEGIN:VEVENT
DTSTART;TZID=America/New_York:20191207T160000
DTEND;TZID=America/New_York:20191207T180000
DTSTAMP:20260423T183936
CREATED:20191109T002607Z
LAST-MODIFIED:20191110T010413Z
UID:1869-1575734400-1575741600@www.noseypalate.com
SUMMARY:Love The Palate
DESCRIPTION:Nosey Palate is teaming up with Sommelier Austin Drake of Love The Bottle to bring you tons of information about the wines you will be enjoying! These amazing wine varietals will be accompanied by tasty bites to enhance the flavors and your experience. If like an informative wine pairing\, then you will definitely Love The Palate!
URL:https://www.noseypalate.com/calendar/love-the-palate/
LOCATION:Nosey Palate\, 1516 N 5th Street\, Philadelphia\, PA\, 19122\, United States
ATTACH;FMTTYPE=image/png:https://www.noseypalate.com/wp-content/uploads/2019/11/Screen-Shot-2019-11-09-at-7.25.12-PM.png
ORGANIZER;CN="Nosey%20Palate%20LLC":MAILTO:info@noseypalate.com
END:VEVENT
BEGIN:VEVENT
DTSTART;TZID=America/New_York:20191206T180000
DTEND;TZID=America/New_York:20191206T220000
DTSTAMP:20260423T183936
CREATED:20191120T014425Z
LAST-MODIFIED:20191120T022436Z
UID:1909-1575655200-1575669600@www.noseypalate.com
SUMMARY:Wine & Art Pairing
DESCRIPTION:What better way to enjoy the last 1st Friday of 2019 with a combo of wine and art? \nNosey Palate is partnering with Philadelphia visual artist\, Marian Mauti to bring you a two-for-one experience. Exhibit fine art while we provide the perfect wine with the beautifully displayed masterpieces! \n 
URL:https://www.noseypalate.com/calendar/wine-art/
LOCATION:Nosey Palate\, 1516 N 5th Street\, Philadelphia\, PA\, 19122\, United States
ORGANIZER;CN="Nosey%20Palate%20LLC":MAILTO:info@noseypalate.com
END:VEVENT
BEGIN:VEVENT
DTSTART;TZID=America/New_York:20191129T180000
DTEND;TZID=America/New_York:20191129T193000
DTSTAMP:20260423T183936
CREATED:20191123T201051Z
LAST-MODIFIED:20191123T201054Z
UID:1928-1575050400-1575055800@www.noseypalate.com
SUMMARY:5 S's of Wine Tasting
DESCRIPTION:We will teach you the fundamentals of wine tasting! You will sample a variety of wines from different regions. Expect to See\, Swirl\, Sniff\, Sip\, and Savor the wines we present and openly discuss the body\, aromas\, flavors and more!  \nWe will pair each wine with cheese to enhance the flavors. Bread and fruit will be provided. The first 15 minutes will be used to mingle\, take photos and gives you an opportunity grab a complimentary cocktail. We will then begin The 5 S’s of Wine Tasting!
URL:https://www.noseypalate.com/calendar/5-ss-of-wine-tasting/
LOCATION:Nosey Palate\, 1516 N 5th Street\, Philadelphia\, PA\, 19122\, United States
ATTACH;FMTTYPE=image/png:https://www.noseypalate.com/wp-content/uploads/2019/11/Screen-Shot-2019-11-05-at-10.33.24-AM.png
ORGANIZER;CN="Nosey%20Palate%20LLC":MAILTO:info@noseypalate.com
END:VEVENT
BEGIN:VEVENT
DTSTART;TZID=America/New_York:20191116T180000
DTEND;TZID=America/New_York:20191116T200000
DTSTAMP:20260423T183936
CREATED:20191102T012029Z
LAST-MODIFIED:20191223T010341Z
UID:1823-1573927200-1573934400@www.noseypalate.com
SUMMARY:Vegan Wine Tasting
DESCRIPTION:What is vegan wine? How does it taste? What animal-derived products are used in traditional winemaking? This experience allows you to sample a handful of great vegan wines and pair them with tasty vegan food!
URL:https://www.noseypalate.com/calendar/vegan-wine-tasting/
LOCATION:Nosey Palate\, 1516 N 5th Street\, Philadelphia\, PA\, 19122\, United States
ATTACH;FMTTYPE=image/png:https://www.noseypalate.com/wp-content/uploads/2019/11/Screen-Shot-2019-11-05-at-10.29.52-AM-3.png
ORGANIZER;CN="Nosey%20Palate%20LLC":MAILTO:info@noseypalate.com
END:VEVENT
BEGIN:VEVENT
DTSTART;TZID=America/New_York:20191102T140000
DTEND;TZID=America/New_York:20191102T153000
DTSTAMP:20260423T183936
CREATED:20190915T021941Z
LAST-MODIFIED:20191021T124623Z
UID:1636-1572703200-1572708600@www.noseypalate.com
SUMMARY:B.Y.O.B - Be Your Own Bartender!
DESCRIPTION:You will learn how to make signature cocktails by an experienced mixologist. Once you concoct the drink\, you will enjoy the masterpiece you’ve created! \nWe provide the necessary tools\, glassware\, garnishes\, mixers and of course the alcohol!
URL:https://www.noseypalate.com/calendar/byob/
LOCATION:The Palate Room\, 1516 N 5th Street #213\, Philadelphia\, PA\, 19122\, United States
ATTACH;FMTTYPE=image/png:https://www.noseypalate.com/wp-content/uploads/2019/09/Be-Your-Own-Bartender-B.Y.O.B.png
ORGANIZER;CN="Nosey%20Palate%20LLC":MAILTO:info@noseypalate.com
END:VEVENT
END:VCALENDAR